BEGIN:VCALENDAR
VERSION:2.0
PRODID:-//Department Of Education//a90e2953-ac1c-4418-a72b-ac6539012b69
BEGIN:VTIMEZONE
TZID:Australia/Sydney
TZURL:http://tzurl.org/zoneinfo-outlook/Australia/Sydney
X-LIC-LOCATION:Australia/Sydney
BEGIN:STANDARD
TZOFFSETFROM:+1100
TZOFFSETTO:+1000
TZNAME:AEST
DTSTART:19700405T030000
RRULE:FREQ=YEARLY;BYMONTH=4;BYDAY=1SU
END:STANDARD
BEGIN:DAYLIGHT
TZOFFSETFROM:+1000
TZOFFSETTO:+1100
TZNAME:AEDT
DTSTART:19701004T020000
RRULE:FREQ=YEARLY;BYMONTH=10;BYDAY=1SU
END:DAYLIGHT
END:VTIMEZONE
CALSCALE:GREGORIAN
X-WR-TIMEZONE:Australia/Sydney
BEGIN:VEVENT
DTSTART;VALUE=DATE:20180913
DTEND;VALUE=DATE:20180914
DTSTAMP:20180913T000000Z
UID:fec901de-e508-4f45-bb54-eae606889d78
LOCATION:Monaro High School
SUMMARY;LANGUAGE=en-us:Year 6-7 Transition Mini Lessons
SEQUENCE:0
DESCRIPTION:Year 6-7 Transition Mini Lessons
END:VEVENT
TRANSP:TRANSPARENT
END:VCALENDAR
