BEGIN:VCALENDAR
VERSION:2.0
PRODID:-//Department Of Education//2a44ea3a-b359-4c0c-aa87-1966ebbf7b99
BEGIN:VTIMEZONE
TZID:Australia/Sydney
TZURL:http://tzurl.org/zoneinfo-outlook/Australia/Sydney
X-LIC-LOCATION:Australia/Sydney
BEGIN:STANDARD
TZOFFSETFROM:+1100
TZOFFSETTO:+1000
TZNAME:AEST
DTSTART:19700405T030000
RRULE:FREQ=YEARLY;BYMONTH=4;BYDAY=1SU
END:STANDARD
BEGIN:DAYLIGHT
TZOFFSETFROM:+1000
TZOFFSETTO:+1100
TZNAME:AEDT
DTSTART:19701004T020000
RRULE:FREQ=YEARLY;BYMONTH=10;BYDAY=1SU
END:DAYLIGHT
END:VTIMEZONE
CALSCALE:GREGORIAN
X-WR-TIMEZONE:Australia/Sydney
BEGIN:VEVENT
DTSTART;TZID=Australia/Sydney:20180911T180041
DTEND;TZID=Australia/Sydney:20180911T181548
DTSTAMP:20180911T000000Z
UID:f4cb6b4a-6005-4b45-9eb3-c53fc7e56b85
LOCATION:Sport Awards Presentation Evening
SUMMARY;LANGUAGE=en-us:Sport Awards Presentation Evening
SEQUENCE:0
DESCRIPTION:Sport Awards Presentation Evening
END:VEVENT
TRANSP:TRANSPARENT
END:VCALENDAR
