BEGIN:VCALENDAR
VERSION:2.0
PRODID:-//Department Of Education//12d7902c-bb4b-4117-b145-303b532aa290
BEGIN:VTIMEZONE
TZID:Australia/Sydney
TZURL:http://tzurl.org/zoneinfo-outlook/Australia/Sydney
X-LIC-LOCATION:Australia/Sydney
BEGIN:STANDARD
TZOFFSETFROM:+1100
TZOFFSETTO:+1000
TZNAME:AEST
DTSTART:19700405T030000
RRULE:FREQ=YEARLY;BYMONTH=4;BYDAY=1SU
END:STANDARD
BEGIN:DAYLIGHT
TZOFFSETFROM:+1000
TZOFFSETTO:+1100
TZNAME:AEDT
DTSTART:19701004T020000
RRULE:FREQ=YEARLY;BYMONTH=10;BYDAY=1SU
END:DAYLIGHT
END:VTIMEZONE
CALSCALE:GREGORIAN
X-WR-TIMEZONE:Australia/Sydney
BEGIN:VEVENT
DTSTART;TZID=Australia/Sydney:20180911T140011
DTEND;TZID=Australia/Sydney:20180911T141517
DTSTAMP:20180911T000000Z
UID:fb491d95-b082-4f14-b0b3-80626561ce00
LOCATION:Monaro High School
SUMMARY;LANGUAGE=en-us:Captains Speeches
SEQUENCE:0
DESCRIPTION:Captains Speeches
END:VEVENT
TRANSP:TRANSPARENT
END:VCALENDAR
