BEGIN:VCALENDAR
VERSION:2.0
PRODID:-//Department Of Education//5651e536-a01f-45a7-a1de-605c230a5ea0
BEGIN:VTIMEZONE
TZID:Australia/Sydney
TZURL:http://tzurl.org/zoneinfo-outlook/Australia/Sydney
X-LIC-LOCATION:Australia/Sydney
BEGIN:STANDARD
TZOFFSETFROM:+1100
TZOFFSETTO:+1000
TZNAME:AEST
DTSTART:19700405T030000
RRULE:FREQ=YEARLY;BYMONTH=4;BYDAY=1SU
END:STANDARD
BEGIN:DAYLIGHT
TZOFFSETFROM:+1000
TZOFFSETTO:+1100
TZNAME:AEDT
DTSTART:19701004T020000
RRULE:FREQ=YEARLY;BYMONTH=10;BYDAY=1SU
END:DAYLIGHT
END:VTIMEZONE
CALSCALE:GREGORIAN
X-WR-TIMEZONE:Australia/Sydney
BEGIN:VEVENT
DTSTART;VALUE=DATE:20180919
DTEND;VALUE=DATE:20180922
DTSTAMP:20180919T000000Z
UID:dd0b8e8a-c0c5-4a68-b2cc-143fd6d20b14
LOCATION:Monaro High School
SUMMARY;LANGUAGE=en-us:Ausdance Festival 9/10-TBC
SEQUENCE:0
DESCRIPTION:Ausdance Festival 9/10-TBC
END:VEVENT
TRANSP:TRANSPARENT
END:VCALENDAR
