BEGIN:VCALENDAR
VERSION:2.0
PRODID:-//Department Of Education//99fe15fb-3ec6-4418-ac42-fecc7bf09939
BEGIN:VTIMEZONE
TZID:Australia/Sydney
TZURL:http://tzurl.org/zoneinfo-outlook/Australia/Sydney
X-LIC-LOCATION:Australia/Sydney
BEGIN:STANDARD
TZOFFSETFROM:+1100
TZOFFSETTO:+1000
TZNAME:AEST
DTSTART:19700405T030000
RRULE:FREQ=YEARLY;BYMONTH=4;BYDAY=1SU
END:STANDARD
BEGIN:DAYLIGHT
TZOFFSETFROM:+1000
TZOFFSETTO:+1100
TZNAME:AEDT
DTSTART:19701004T020000
RRULE:FREQ=YEARLY;BYMONTH=10;BYDAY=1SU
END:DAYLIGHT
END:VTIMEZONE
CALSCALE:GREGORIAN
X-WR-TIMEZONE:Australia/Sydney
BEGIN:VEVENT
DTSTART;TZID=Australia/Sydney:20180321T090000
DTEND;TZID=Australia/Sydney:20180321T150000
DTSTAMP:20180321T090000Z
UID:036d3878-a339-44cd-ae88-6a920d5d58d5
LOCATION:
SUMMARY;LANGUAGE=en-us:Southern Country Cup R/L
SEQUENCE:0
DESCRIPTION:Rugby League Trials TBC
END:VEVENT
TRANSP:TRANSPARENT
END:VCALENDAR
