BEGIN:VCALENDAR
VERSION:2.0
PRODID:-//Department Of Education//d7a0f03c-5b5c-4773-86bf-17bb6b9006a0
BEGIN:VTIMEZONE
TZID:Australia/Sydney
TZURL:http://tzurl.org/zoneinfo-outlook/Australia/Sydney
X-LIC-LOCATION:Australia/Sydney
BEGIN:STANDARD
TZOFFSETFROM:+1100
TZOFFSETTO:+1000
TZNAME:AEST
DTSTART:19700405T030000
RRULE:FREQ=YEARLY;BYMONTH=4;BYDAY=1SU
END:STANDARD
BEGIN:DAYLIGHT
TZOFFSETFROM:+1000
TZOFFSETTO:+1100
TZNAME:AEDT
DTSTART:19701004T020000
RRULE:FREQ=YEARLY;BYMONTH=10;BYDAY=1SU
END:DAYLIGHT
END:VTIMEZONE
CALSCALE:GREGORIAN
X-WR-TIMEZONE:Australia/Sydney
BEGIN:VEVENT
DTSTART;TZID=Australia/Sydney:20180227T170000
DTEND;TZID=Australia/Sydney:20180227T183000
DTSTAMP:20180227T170000Z
UID:3ff13333-ca85-4759-b96d-97be7390f54a
LOCATION:
SUMMARY;LANGUAGE=en-us:Welcome to Monaro High BBQ
SEQUENCE:0
DESCRIPTION:Welcome BBQ for new students and their families.
END:VEVENT
TRANSP:TRANSPARENT
END:VCALENDAR
