BEGIN:VCALENDAR
VERSION:2.0
PRODID:-//Department Of Education//a9025133-572d-4434-9d4f-d375b1e1b44c
BEGIN:VTIMEZONE
TZID:Australia/Sydney
TZURL:http://tzurl.org/zoneinfo-outlook/Australia/Sydney
X-LIC-LOCATION:Australia/Sydney
BEGIN:STANDARD
TZOFFSETFROM:+1100
TZOFFSETTO:+1000
TZNAME:AEST
DTSTART:19700405T030000
RRULE:FREQ=YEARLY;BYMONTH=4;BYDAY=1SU
END:STANDARD
BEGIN:DAYLIGHT
TZOFFSETFROM:+1000
TZOFFSETTO:+1100
TZNAME:AEDT
DTSTART:19701004T020000
RRULE:FREQ=YEARLY;BYMONTH=10;BYDAY=1SU
END:DAYLIGHT
END:VTIMEZONE
CALSCALE:GREGORIAN
X-WR-TIMEZONE:Australia/Sydney
BEGIN:VEVENT
DTSTART;TZID=Australia/Sydney:20180222T180000
DTEND;TZID=Australia/Sydney:20180222T210000
DTSTAMP:20180222T180000Z
UID:1d3dbe6e-87af-4a31-99c4-f28b0408cfdf
LOCATION:
SUMMARY;LANGUAGE=en-us:School Social
SEQUENCE:0
DESCRIPTION:"Blast from the Past"
END:VEVENT
TRANSP:TRANSPARENT
END:VCALENDAR
